BEGIN:VCALENDAR
VERSION:2.0
PRODID:-//School of Policy and International Affairs - ECPv6.15.17.1//NONSGML v1.0//EN
CALSCALE:GREGORIAN
METHOD:PUBLISH
X-WR-CALNAME:School of Policy and International Affairs
X-ORIGINAL-URL:https://spia.umaine.edu
X-WR-CALDESC:Events for School of Policy and International Affairs
REFRESH-INTERVAL;VALUE=DURATION:PT1H
X-Robots-Tag:noindex
X-PUBLISHED-TTL:PT1H
BEGIN:VTIMEZONE
TZID:America/New_York
BEGIN:DAYLIGHT
TZOFFSETFROM:-0500
TZOFFSETTO:-0400
TZNAME:EDT
DTSTART:20150308T070000
END:DAYLIGHT
BEGIN:STANDARD
TZOFFSETFROM:-0400
TZOFFSETTO:-0500
TZNAME:EST
DTSTART:20151101T060000
END:STANDARD
BEGIN:DAYLIGHT
TZOFFSETFROM:-0500
TZOFFSETTO:-0400
TZNAME:EDT
DTSTART:20160313T070000
END:DAYLIGHT
BEGIN:STANDARD
TZOFFSETFROM:-0400
TZOFFSETTO:-0500
TZNAME:EST
DTSTART:20161106T060000
END:STANDARD
BEGIN:DAYLIGHT
TZOFFSETFROM:-0500
TZOFFSETTO:-0400
TZNAME:EDT
DTSTART:20170312T070000
END:DAYLIGHT
BEGIN:STANDARD
TZOFFSETFROM:-0400
TZOFFSETTO:-0500
TZNAME:EST
DTSTART:20171105T060000
END:STANDARD
END:VTIMEZONE
BEGIN:VEVENT
DTSTART;VALUE=DATE:20160401
DTEND;VALUE=DATE:20160402
DTSTAMP:20260420T015107
CREATED:20160303T232942Z
LAST-MODIFIED:20160303T234229Z
UID:10000013-1459468800-1459555199@spia.umaine.edu
SUMMARY:International Affairs: An Interdisciplinary Study
DESCRIPTION:Wells Conference Center\, University of Maine\nA One-Day Conference\, Free & Open to the Public\nToday\, the study of International Affairs is surely a necessity\, both for public policy and civic education. Yet this study could not survive without the contributions of other disciplines. Please join us for a conference of leading scholars to discuss the ways we make sense of our global world. \n9:15 am      Coffee/Refreshments\n9:30 am      Welcome and Introduction\nDean Emily A. Haddad\, College of Liberal Arts and Sciences\, UMaine\n9:45 am      “What’s Culture Got to Do With It: The Importance of Anthropology in International Affairs”\nSarah Tobin\, Associate Director of Middle East Studies\, Brown University\n11:00 am    Break\n11:15 am    “Money\, Guns and the Study of International Affairs”\nRosella Capella\, Assistant Professor of Political Science\, Boston University\n12:30 pm    Lunch (Free\, but RSVP required by March 24 – contact Peter Fandel at 207-581-1835 or\npeter.fandel@maine.edu)\n1:30 pm      “International Affairs and the Turn to History”\nBrian Schmidt\, Associate Professor of Political Science\, Carleton University\n2:45 pm      Break\n3:00 pm      Roundtable Discussion\n4:00 pm      Reception \nPresented by the International Affairs Program with significant support from the School of Policy and International Affairs \n 
URL:https://spia.umaine.edu/event/international-affairs-an-interdisciplinary-study/
LOCATION:Wells Conference Center\, University of Maine\, Orono\, ME\, 04469\, United States
GEO:44.8922637;-68.6714486
X-APPLE-STRUCTURED-LOCATION;VALUE=URI;X-ADDRESS=Wells Conference Center University of Maine Orono ME 04469 United States;X-APPLE-RADIUS=500;X-TITLE=University of Maine:geo:-68.6714486,44.8922637
END:VEVENT
END:VCALENDAR